BEGIN:VCALENDAR
VERSION:2.0
PRODID:-//eventon.com NONSGML v1.0//EN
CALSCALE:GREGORIAN
METHOD:PUBLISH
BEGIN:VEVENT
UID:69e75aa17afd5
DTSTAMP:20260421T110817Z
DTSTART:20190517T200000Z
DTEND:20190517T230000Z
LOCATION:Graf-Arco-Str. 19 / Valleyer Schlossbräu Graf-Arco-Str. 19
SUMMARY:Offene Bühne Holzkirchen/Holzkirchner Bürgerstiftung
DESCRIPTION:2018 war die Bürgerstiftung Holzkirchen mit der Offenen Bühne
  zum ersten Mal im Schloss Bräu. Das Haus war voll\,  der Erfolg groß. 20
 19 gibt es die Fortsetzung – die Offene Bühne Holzkirchen kommt wieder n
 ach Valley. Das von der Bürgerstiftung entwickelte Format ist eine Plattfo
 rm für Nachwuchskünstler. Insofern ist das[..]\nhttps://valleyer.de/event
 s/offene-buehne-holzkirchen/
URL:https://valleyer.de/events/offene-buehne-holzkirchen/
END:VEVENT
END:VCALENDAR