BEGIN:VCALENDAR
VERSION:2.0
PRODID:-//eventon.com NONSGML v1.0//EN
CALSCALE:GREGORIAN
METHOD:PUBLISH
BEGIN:VEVENT
UID:69e772c3acc3c
DTSTAMP:20260421T125115Z
DTSTART:20181201T190000Z
DTEND:20181201T230000Z
LOCATION:Graf-Arco-Str. 19 / Valleyer Schlossbräu Graf-Arco-Str. 19
SUMMARY:Andrea Pancur - Alpen Klezmer
DESCRIPTION:Bayrisch * jiddisch* wuid und koscher EINLASS: 19 Uhr\,  BEGINN
 : 20 Uhr. Abendkasse ab 19 Uhr\,  Vorverkauf über Getränkemarkt Martin Sc
 hima ab dem 10. November 2018. Kartenreservierung über events@valleyer.de 
 möglich (Betreff Andrea Pancur). Andrea Pancur\,  für das wegweisende Pro
 jekt „Alpen Klezmer“ mit dem Deutschen Weltmusikpreis ausgezeichnet\,  
 hat die koscheren Gebirgsjodler[..]\nhttps://valleyer.de/events/andrea-panc
 ur-alpen-klezmer/
URL:https://valleyer.de/events/andrea-pancur-alpen-klezmer/
END:VEVENT
END:VCALENDAR