BEGIN:VCALENDAR
VERSION:2.0
PRODID:-//eventon.com NONSGML v1.0//EN
CALSCALE:GREGORIAN
METHOD:PUBLISH
BEGIN:VEVENT
UID:69e78a7ad29da
DTSTAMP:20260421T143226Z
DTSTART:20181011T190000Z
DTEND:20181011T230000Z
LOCATION:
SUMMARY:"Jugend ohne Gott" - Kino im Sudhaus
DESCRIPTION:"Jugend ohne Gott" - Kino im Sudhaus\nhttps://valleyer.de/event
 s/jugend-ohne-gott-kino-im-sudhaus/
URL:https://valleyer.de/events/jugend-ohne-gott-kino-im-sudhaus/
END:VEVENT
END:VCALENDAR