BEGIN:VCALENDAR
VERSION:2.0
PRODID:-//eventon.com NONSGML v1.0//EN
CALSCALE:GREGORIAN
METHOD:PUBLISH
BEGIN:VEVENT
UID:69e7a2347288e
DTSTAMP:20260421T161340Z
DTSTART:20181110T190000Z
DTEND:20181110T230000Z
LOCATION:
SUMMARY:Deezl - Chrome Smoke & Blues Rock
DESCRIPTION:\nhttps://valleyer.de/events/deezl-chrome-smoke-blues-rock/
URL:https://valleyer.de/events/deezl-chrome-smoke-blues-rock/
END:VEVENT
END:VCALENDAR