BEGIN:VCALENDAR
VERSION:2.0
PRODID:-//eventon.com NONSGML v1.0//EN
CALSCALE:GREGORIAN
METHOD:PUBLISH
BEGIN:VEVENT
UID:69e7badc33e4d
DTSTAMP:20260421T175852Z
DTSTART:20181103T180000Z
DTEND:20181103T200000Z
LOCATION:
SUMMARY:Lesung mit und von Volker Camehn - Prost & Prosa
DESCRIPTION:Lesung mit und von Volker Camehn - Prost & Prosa\nhttps://valle
 yer.de/events/lesung-mit-und-von-volker-carmehn-prost-prosa/
URL:https://valleyer.de/events/lesung-mit-und-von-volker-carmehn-prost-prosa/
END:VEVENT
END:VCALENDAR