BEGIN:VCALENDAR
VERSION:2.0
PRODID:-//eventon.com NONSGML v1.0//EN
CALSCALE:GREGORIAN
METHOD:PUBLISH
BEGIN:VEVENT
UID:69e7cfdf5b07d
DTSTAMP:20260421T192831Z
DTSTART:20190208T200000Z
DTEND:20190208T230000Z
LOCATION:Graf-Arco-Str. 19 / Valleyer SchlossbrĂ¤u Graf-Arco-Str. 19
SUMMARY:Swing it UP
DESCRIPTION:Am Freitag\,  08. Februar 2019 um 20:00 im Valleyer Schloss BrĂ
 ¤u. Swing it UP\,  WohlfĂĽhl &#8211; Standards mit Swing\,  Latin und Everg
 reens der 30er. &nbsp; Eine ausdrucksstarke SĂ¤ngerin\,  raffinierte Arrang
 ements\,  und ein HĂ¶chstmaĂź an musikalischer VirtuositĂ¤t sind bei Bernd 
 Stahuberâ€™s Swing it UP Standard. Sozusagen â€žzum Anfassenâ€ś sind die me
 lodiĂ¶sen[..]\nhttps://valleyer.de/events/swing-it-up/
URL:https://valleyer.de/events/swing-it-up/
END:VEVENT
END:VCALENDAR