BEGIN:VCALENDAR
VERSION:2.0
PRODID:-//eventon.com NONSGML v1.0//EN
CALSCALE:GREGORIAN
METHOD:PUBLISH
BEGIN:VEVENT
UID:69e7e8241bcf4
DTSTAMP:20260421T211204Z
DTSTART:20190119T190000Z
DTEND:20190119T230000Z
LOCATION:Graf-Arco-Str. 19 / Valleyer Schlossbräu Graf-Arco-Str. 19
SUMMARY:"Grundrauschen" - Wie wird die Welt zur Nachricht und die Nachricht zur Welt?
DESCRIPTION:Am Samstag\,  dem 19. Januar 2019 um 19:30 Uhr zeigt die Kultur
 werkstatt im Oberland gemeinsam mit dem Valleyer Schlossbräu im Sudhaus de
 n Film „GRUNDRAUSCHEN“. Regisseur Friedrich Rackwitz und Drehbuchautor 
 Christian Aichner\,  denen es erstmals gelang in die Räumlichkeiten der De
 utschen Presse-Agentur (dpa) zu blicken\,  stehen im Sudhaus nach der Film-
 Vorstellung[..]\nhttps://valleyer.de/events/grundrauschen-film-im-sudhaus/
URL:https://valleyer.de/events/grundrauschen-film-im-sudhaus/
END:VEVENT
END:VCALENDAR