BEGIN:VCALENDAR
VERSION:2.0
PRODID:-//eventon.com NONSGML v1.0//EN
CALSCALE:GREGORIAN
METHOD:PUBLISH
BEGIN:VEVENT
UID:69e802d5e4dcb
DTSTAMP:20260421T230557Z
DTSTART:20181216T110000Z
DTEND:20181216T180000Z
LOCATION:Graf-Arco-Str. 19 / Valleyer Schlossbräu Graf-Arco-Str. 19
SUMMARY:Christkindlmarkt in der Valley
DESCRIPTION:Im Innenhof der Brauerei wird es am 15. Dezember gemütlich: Wi
 e jedes Jahr stellen Künstler\,  Kindergärten\,  Institutionen ihre Beson
 derheiten aus und locken damit hunderte von Besuchern an. Für das leiblich
 e Wohl ist gesorgt: Glühwein\,  Punsch\,  Bier\,  Getränke mit und ohne A
 lkohol\,  Bratensemmeln\,  Leberkäs und Kuchen &#8211; jeder findet\,  was
  er[..]\nhttps://valleyer.de/events/christkindlmarkt-in-der-valley/
URL:https://valleyer.de/events/christkindlmarkt-in-der-valley/
END:VEVENT
END:VCALENDAR