BEGIN:VCALENDAR
VERSION:2.0
PRODID:-//eventon.com NONSGML v1.0//EN
CALSCALE:GREGORIAN
METHOD:PUBLISH
BEGIN:VEVENT
UID:69e81ca036219
DTSTAMP:20260422T005600Z
DTSTART:20190316T203000Z
DTEND:20190316T233000Z
LOCATION:Graf-Arco-Str. 19 / Valleyer Schlossbräu Graf-Arco-Str. 19
SUMMARY:Grasshoppers and St. Partick's Day
DESCRIPTION:Es geht wieder irisch zu! Die Grasshoppers mit dem wilden Geige
 r Christoph Bencic (u.a.) spielen zum St. Patrick&#8217;s Day schwungvoll a
 uf. Dazu gibt es zwar kein Stout und auch kein Guiness\,  aber dafür Valle
 yer Zwickl &#8211; mindestens genauso gut 🙂 Einlass ist ab 19.30 Uhr Ein
 tritt frei\,  Hut geht rum\nhttps://valleyer.de/events/grasshoppers-and-st-
 particks-day/
URL:https://valleyer.de/events/grasshoppers-and-st-particks-day/
END:VEVENT
END:VCALENDAR