BEGIN:VCALENDAR
VERSION:2.0
PRODID:-//eventon.com NONSGML v1.0//EN
CALSCALE:GREGORIAN
METHOD:PUBLISH
BEGIN:VEVENT
UID:69e8321bba162
DTSTAMP:20260422T022739Z
DTSTART:20190407T190000Z
DTEND:20190407T230000Z
LOCATION:Graf-Arco-Str. 19 / Valleyer Schlossbräu Graf-Arco-Str. 19
SUMMARY:OstBahnGroove - Pop- und Jazzchor
DESCRIPTION:Es ist bereits legendär und vor allem legendär gut: Der Pop- 
 und Jazzchor OstBahnGroove unter der Leitung der Valleyerin Agnes Schlaghau
 fer. Erst 2015 gegründet\,  hat der Chor bereits beim Deutschen Chorwettbe
 werb starke Preise erhalten. Ein Newcomer-Chor\,  ein Shooting-Star. Wir fr
 euen uns\,  dass OstBahnGroove wieder bei uns auftritt. https://www.ostbahn
 groove.de/\nhttps://valleyer.de/events/ostbahngroove-pop-und-jazzchor/
URL:https://valleyer.de/events/ostbahngroove-pop-und-jazzchor/
END:VEVENT
END:VCALENDAR