BEGIN:VCALENDAR
VERSION:2.0
PRODID:-//eventon.com NONSGML v1.0//EN
CALSCALE:GREGORIAN
METHOD:PUBLISH
BEGIN:VEVENT
UID:69e84ddf985ee
DTSTAMP:20260422T042607Z
DTSTART:20190412T200000Z
DTEND:20190412T230000Z
LOCATION:Graf-Arco-Str. 19 / Valleyer SchlossbrĂ¤u Graf-Arco-Str. 19
SUMMARY:Hoki Youth Band - Jugendbigband aus Holzkirchen: "Keep SwinginÂ´" feat. Chuck Herrmann
DESCRIPTION:Hoki Youth Band - Jugendbigband aus Holzkirchen: "Keep SwinginÂ
 ´" feat. Chuck Herrmann\nhttps://valleyer.de/events/hoki-youth-band-jazz-au
 s-holzkirchen/
URL:https://valleyer.de/events/hoki-youth-band-jazz-aus-holzkirchen/
END:VEVENT
END:VCALENDAR