BEGIN:VCALENDAR
VERSION:2.0
PRODID:-//eventon.com NONSGML v1.0//EN
CALSCALE:GREGORIAN
METHOD:PUBLISH
BEGIN:VEVENT
UID:69e864c6b7324
DTSTAMP:20260422T060350Z
DTSTART:20190110T193000Z
DTEND:20190110T220000Z
LOCATION:Graf-Arco-Str. 19 / Valleyer Schlossbräu Graf-Arco-Str. 19
SUMMARY:Neujahrskonzert mit Chor\,  Gesang und Musik
DESCRIPTION:Bevor der Fasching mit dem Burschenball startet\,  wollen wir d
 ie staade Zeit gemeinsam ausklingen lassen und das Neujahr musikalisch begr
 üßen! Wir freuen uns\,  dass wir vier Musikgruppen aus Valley und Holzkir
 chen für ein Konzert motivieren konnten. Mit Gesang sind dabei:der Gospelc
 hor Valley Voices unter Leitung von Bernhard Vorwerk und der[..]\nhttps://v
 alleyer.de/events/neujahrskonzert-mit-chor-gesang-und-musik/
URL:https://valleyer.de/events/neujahrskonzert-mit-chor-gesang-und-musik/
END:VEVENT
END:VCALENDAR