BEGIN:VCALENDAR
VERSION:2.0
PRODID:-//eventon.com NONSGML v1.0//EN
CALSCALE:GREGORIAN
METHOD:PUBLISH
BEGIN:VEVENT
UID:69e8938c8ad08
DTSTAMP:20260422T092324Z
DTSTART:20190201T190000Z
DTEND:20190201T200000Z
LOCATION:
SUMMARY:Krimilesung im Sudhaus
DESCRIPTION:Fünf Autorinnen\,  vier Fotos von zwei Mord-Tatorten sowie zwe
 i Mitglieder der Band &#8222;Watching the Cats&#8220;  &#8211; am 01. Febr
 uar wirds krimi-nell und musikalisch im Sudhaus. Wie kommt&#8217;s? Die Dre
 hbuchautorin und Fotografin Nani Mahlo aus Grub ist Spezialistin für Krimi
 s im Film.Als Fotografin arbeitete sie an einer Bildreihe\,  für die sie[.
 .]\nhttps://valleyer.de/events/krimilesung-im-sudhaus/
URL:https://valleyer.de/events/krimilesung-im-sudhaus/
END:VEVENT
END:VCALENDAR