BEGIN:VCALENDAR
VERSION:2.0
PRODID:-//eventon.com NONSGML v1.0//EN
CALSCALE:GREGORIAN
METHOD:PUBLISH
BEGIN:VEVENT
UID:69e8ab1e3ca84
DTSTAMP:20260422T110358Z
DTSTART:20190228T200000Z
DTEND:20190228T000000Z
LOCATION:
SUMMARY:Tanz im Sudhaus - Disco\,  Party\,  Schlager
DESCRIPTION:Im Sudhaus wird getanzt &#8211; coole Musik\,  Lichtanlage\,  S
 oundverstärkung. DJ Andi\,  der bisher vorwiegend im Raum Rosenheimer aufl
 egt\,  hat sich vorgenommen\,  die Stimmung im großen Saal richtig anzuhei
 zen. Pop\,  Rock\,  Groove\,  House\,  aber auch Evergreens\,  Top-Songs au
 s den 80ern\,  90ern und überhaupt\,  was das Herz begehrt. Der DJ bedient
  viele[..]\nhttps://valleyer.de/events/tanz-im-sudhaus-disco-party-schlager
 -28-02-2019/
URL:https://valleyer.de/events/tanz-im-sudhaus-disco-party-schlager-28-02-2019/
END:VEVENT
END:VCALENDAR