BEGIN:VCALENDAR
VERSION:2.0
PRODID:-//eventon.com NONSGML v1.0//EN
CALSCALE:GREGORIAN
METHOD:PUBLISH
BEGIN:VEVENT
UID:69e8d6ac105dc
DTSTAMP:20260422T140948Z
DTSTART:20190425T200000Z
DTEND:20190425T000000Z
LOCATION:
SUMMARY:Tanz im Sudhaus - Disco\,  Party\,  Schlager
DESCRIPTION:Im Sudhaus wird getanzt . Jeden letzten Donnerstag im Monat. Da
 s ganze Jahr hindurch. Coole Musik\,  Lichtanlage\,  Soundverstärkung. Pop
 \,  Rock\,  Groove\,  House\,  aber auch Evergreens\,  Top-Songs aus den 80
 ern\,  90ern und überhaupt\,  was das Herz begehrt. Der DJ bedient viele V
 orlieben\,  für Singles wie auch für Paare und geht dabei[..]\nhttps://va
 lleyer.de/events/tanz-im-sudhaus-disco-party-schlager-25-04-2019/
URL:https://valleyer.de/events/tanz-im-sudhaus-disco-party-schlager-25-04-2019/
END:VEVENT
END:VCALENDAR