BEGIN:VCALENDAR
VERSION:2.0
PRODID:-//eventon.com NONSGML v1.0//EN
CALSCALE:GREGORIAN
METHOD:PUBLISH
BEGIN:VEVENT
UID:69e746c9cbb30
DTSTAMP:20260421T094337Z
DTSTART:20180902T110000Z
DTEND:20180902T200000Z
LOCATION:Graf-Arco-Str. 19 / Valleyer Schlossbräu Graf-Arco-Str. 19
SUMMARY:Tag der offenen Türe
DESCRIPTION:Programm am 2. September: Beginn 11 Uhr\,  Brauen live den ganz
 en Tag\,  ab 11 Uhr Bierverkostung am Schlossplatz ab 12 Uhr Livemusik im B
 iergarten (bei schönem Wetter) Gerichte mit und ums Bier im Bräustüberl 
 &#8211; Ausschank des ersten Valleyer Biercocktails Brauereiführungen um 1
 1 Uhr \,  13 Uhr und 16 Uhr\, [..]\nhttps://valleyer.de/events/tag-der-offe
 nen-tuer/
URL:https://valleyer.de/events/tag-der-offenen-tuer/
END:VEVENT
END:VCALENDAR